BEGIN:VCALENDAR
VERSION:2.0
PRODID:-//TIC - ECPv6.15.20//NONSGML v1.0//EN
CALSCALE:GREGORIAN
METHOD:PUBLISH
X-WR-CALNAME:TIC
X-ORIGINAL-URL:https://www.instructionco.com.au
X-WR-CALDESC:Events for TIC
REFRESH-INTERVAL;VALUE=DURATION:PT1H
X-Robots-Tag:noindex
X-PUBLISHED-TTL:PT1H
BEGIN:VTIMEZONE
TZID:Australia/Sydney
BEGIN:STANDARD
TZOFFSETFROM:+1100
TZOFFSETTO:+1000
TZNAME:AEST
DTSTART:20210403T160000
END:STANDARD
BEGIN:DAYLIGHT
TZOFFSETFROM:+1000
TZOFFSETTO:+1100
TZNAME:AEDT
DTSTART:20211002T160000
END:DAYLIGHT
BEGIN:STANDARD
TZOFFSETFROM:+1100
TZOFFSETTO:+1000
TZNAME:AEST
DTSTART:20220402T160000
END:STANDARD
BEGIN:DAYLIGHT
TZOFFSETFROM:+1000
TZOFFSETTO:+1100
TZNAME:AEDT
DTSTART:20221001T160000
END:DAYLIGHT
BEGIN:STANDARD
TZOFFSETFROM:+1100
TZOFFSETTO:+1000
TZNAME:AEST
DTSTART:20230401T160000
END:STANDARD
BEGIN:DAYLIGHT
TZOFFSETFROM:+1000
TZOFFSETTO:+1100
TZNAME:AEDT
DTSTART:20230930T160000
END:DAYLIGHT
END:VTIMEZONE
BEGIN:VEVENT
DTSTART;TZID=Australia/Sydney:20220421T080000
DTEND;TZID=Australia/Sydney:20220421T160000
DTSTAMP:20260420T060246
CREATED:20220419T071410Z
LAST-MODIFIED:20220428T060307Z
UID:8952-1650528000-1650556800@www.instructionco.com.au
SUMMARY:SARC
DESCRIPTION:SARC Course
URL:https://www.instructionco.com.au/course/sarc/
LOCATION:Beresfield\, 8a/26 Balook Dr\, Beresfield\, 2322\, Australia
ORGANIZER;CN="TIC Rail":MAILTO:office@ticrail.com.au
END:VEVENT
END:VCALENDAR