BEGIN:VCALENDAR
VERSION:2.0
PRODID:-//TIC - ECPv6.15.20//NONSGML v1.0//EN
CALSCALE:GREGORIAN
METHOD:PUBLISH
X-WR-CALNAME:TIC
X-ORIGINAL-URL:https://www.instructionco.com.au
X-WR-CALDESC:Events for TIC
REFRESH-INTERVAL;VALUE=DURATION:PT1H
X-Robots-Tag:noindex
X-PUBLISHED-TTL:PT1H
BEGIN:VTIMEZONE
TZID:Australia/Sydney
BEGIN:STANDARD
TZOFFSETFROM:+1100
TZOFFSETTO:+1000
TZNAME:AEST
DTSTART:20210403T160000
END:STANDARD
BEGIN:DAYLIGHT
TZOFFSETFROM:+1000
TZOFFSETTO:+1100
TZNAME:AEDT
DTSTART:20211002T160000
END:DAYLIGHT
BEGIN:STANDARD
TZOFFSETFROM:+1100
TZOFFSETTO:+1000
TZNAME:AEST
DTSTART:20220402T160000
END:STANDARD
BEGIN:DAYLIGHT
TZOFFSETFROM:+1000
TZOFFSETTO:+1100
TZNAME:AEDT
DTSTART:20221001T160000
END:DAYLIGHT
BEGIN:STANDARD
TZOFFSETFROM:+1100
TZOFFSETTO:+1000
TZNAME:AEST
DTSTART:20230401T160000
END:STANDARD
BEGIN:DAYLIGHT
TZOFFSETFROM:+1000
TZOFFSETTO:+1100
TZNAME:AEDT
DTSTART:20230930T160000
END:DAYLIGHT
BEGIN:STANDARD
TZOFFSETFROM:+1100
TZOFFSETTO:+1000
TZNAME:AEST
DTSTART:20240406T160000
END:STANDARD
BEGIN:DAYLIGHT
TZOFFSETFROM:+1000
TZOFFSETTO:+1100
TZNAME:AEDT
DTSTART:20241005T160000
END:DAYLIGHT
BEGIN:STANDARD
TZOFFSETFROM:+1100
TZOFFSETTO:+1000
TZNAME:AEST
DTSTART:20250405T160000
END:STANDARD
BEGIN:DAYLIGHT
TZOFFSETFROM:+1000
TZOFFSETTO:+1100
TZNAME:AEDT
DTSTART:20251004T160000
END:DAYLIGHT
BEGIN:STANDARD
TZOFFSETFROM:+1100
TZOFFSETTO:+1000
TZNAME:AEST
DTSTART:20260404T160000
END:STANDARD
BEGIN:DAYLIGHT
TZOFFSETFROM:+1000
TZOFFSETTO:+1100
TZNAME:AEDT
DTSTART:20261003T160000
END:DAYLIGHT
BEGIN:STANDARD
TZOFFSETFROM:+1100
TZOFFSETTO:+1000
TZNAME:AEST
DTSTART:20270403T160000
END:STANDARD
BEGIN:DAYLIGHT
TZOFFSETFROM:+1000
TZOFFSETTO:+1100
TZNAME:AEDT
DTSTART:20271002T160000
END:DAYLIGHT
END:VTIMEZONE
BEGIN:VEVENT
DTSTART;TZID=Australia/Sydney:20260423T083000
DTEND;TZID=Australia/Sydney:20260423T163000
DTSTAMP:20260421T232849
CREATED:20260310T092405Z
LAST-MODIFIED:20260310T092405Z
UID:15332-1776933000-1776961800@www.instructionco.com.au
SUMMARY:Queensland Rail 3.2 Safely Access the Rail Corridor
DESCRIPTION:Queensland Rail 3.2 Safely Access the Rail Corridor \n\nQR3.2_SARC\n\n\nCourse Heading Section (Website)\nThis course is aligned with the specific requirements of Queensland Rail’s Network Rules and Procedures MD-12-189. It is designed to equip learners with the skills and knowledge necessary to safely enter and navigate the rail corridor and danger zone\, with the permission of the access provider\, in full compliance with legislative and regulatory standards. \n\nParticipants will learn to adhere to the policies\, procedures\, and protocols of the access provider to ensure situational awareness and rail safety. The course covers operating under local track protection rules\, including interpreting track protection requirements\, executing assigned protection tasks\, and performing work activities in line with safe working practices and workplace procedures. Additionally\, learners will be trained to respond effectively to safety incidents and abnormal situations\, within their scope of personal responsibility. \n\nIntroduction:\nTo ensure you are fully prepared and able to participate in your training session\, please bring the following items with you: \n\n\n	\n	Rail Industry Worker (RIW) Card  \n	\n\n\n\n\nTarget Audience:\n\n	New entrants to the rail industry requiring foundational safety knowledge\n	Contractors\, maintenance workers\, and other operational staff involved in on-track activities\n\n\n\n\n\nLearning Outcomes:\nSafely access and work in the rail corridor: Demonstrate safe entry and operational procedures for working in the rail corridor in accordance with safety regulations.Identify components of the rail corridor: Recognise and describe key components of the rail corridor\, including tracks\, signals\, and other critical infrastructure.Determine minimum sighting distances: Understand and apply minimum sighting distances required for safe work practices in the rail corridor.Identify safety hazards\, risks\, and controls: Identify common safety hazards and risks within the rail corridor and the control measures in place to mitigate them.Report unsafe situations: Recognise and promptly report unsafe situations or practices observed in the rail environment to the appropriate authorities.\n\n\nLearning Methods:\n\n	Classroom-based learning: Face-to-face instruction covering essential theoretical concepts and safety procedures.\n	Knowledge assessments: Written tests to evaluate participants' understanding of the course material.\n	Practical assessments: Hands-on activities where participants demonstrate their skills in a controlled environment.\n\n\n\n\nProgram Benefits:\nSafety Compliance: Ensures participants understand and comply with essential safety protocols for accessing the rail corridor\, reducing the risk of accidents and injuries.Skill Development: Develops practical skills for safely navigating and working in the rail corridor\, including hazard identification and risk control strategies.Career Advancement: Completing the course can open up new opportunities for career progression within the rail industry by demonstrating a commitment to safety and compliance.\n\n\nContent:\n\n  \n\nEnquire\nUpcoming Workshops\nThere are currently no openings available for this course.
URL:https://www.instructionco.com.au/course/queensland-rail-3-2-safely-access-the-rail-corridor-8/
LOCATION:BRISBANE CITY\, BRISBANE CITY\, Australia
CATEGORIES:Workshop
END:VEVENT
BEGIN:VEVENT
DTSTART;TZID=Australia/Sydney:20260423T083000
DTEND;TZID=Australia/Sydney:20260423T123000
DTSTAMP:20260421T232849
CREATED:20260406T222449Z
LAST-MODIFIED:20260406T222449Z
UID:15416-1776933000-1776947400@www.instructionco.com.au
SUMMARY:Queensland Rail 3.2 Safely Access the Rail Corridor Recertification
DESCRIPTION:Queensland Rail 3.2 Safely Access the Rail Corridor Recertification \n\nQR3.2_SARC_R\n\n\nThe QR3.2 Safely Access the Rail Corridor Recertification course is aligned with the specific requirements of Queensland Rail’s Network Rules and Procedures MD-12-189. It is designed to equip learners with the skills and knowledge necessary to safely enter and navigate the rail corridor and danger zone\, with the permission of the access provider\, in full compliance with legislative and regulatory standards. \n\nParticipants will learn to adhere to the policies\, procedures\, and protocols of the access provider to ensure situational awareness and rail safety. The course covers operating under local track protection rules\, including interpreting track protection requirements\, executing assigned protection tasks\, and performing work activities in line with safe working practices and workplace procedures. Additionally\, learners will be trained to respond effectively to safety incidents and abnormal situations\, within their scope of personal responsibility. \n\nIntroduction:\nTo ensure you are fully prepared and able to participate in your training session\, please bring the following items with you:\n\n\n	Rail Industry Worker (RIW) Card \n	Current Queensland Rail (QR) SARC Trackside Protection Card \n\n\n\n\nTarget Audience:\nThis course is intended for individuals who have previously completed the initial QR 3.2 Safely Access the Rail Corridor course and need to recertify their qualifications.\n\n\n\nLearning Outcomes:\nSafely access and work in the rail corridor: Demonstrate safe entry and operational procedures for working in the rail corridor in accordance with safety regulations.Identify components of the rail corridor: Recognise and describe key components of the rail corridor\, including tracks\, signals\, and other critical infrastructure.Determine minimum sighting distances: Understand and apply minimum sighting distances required for safe work practices in the rail corridor.Identify safety hazards\, risks\, and controls: Identify common safety hazards and risks within the rail corridor and the control measures in place to mitigate them.Report unsafe situations: Recognise and promptly report unsafe situations or practices observed in the rail environment to the appropriate authorities.\n\n\nLearning Methods:\n\n	Classroom-based learning: Face-to-face instruction covering essential theoretical concepts and safety procedures.\n	Knowledge assessments: Written tests to evaluate participants' understanding of the course material.\n	Practical assessments: Hands-on activities where participants demonstrate their skills in a controlled environment.\n\n\n\n\nProgram Benefits:\nSafety Compliance: Ensures participants understand and comply with essential safety protocols for accessing the rail corridor\, reducing the risk of accidents and injuries.Career Continuity: Maintains up-to-date certification\, ensuring participants can continue to work safely and legally within the rail sector.Recognition: Participants receive a Queensland Rail Certificate of Achievement\, recognised across the industry for its credibility and value.\n\n\nContent:\n\n  \n\nEnquire\nUpcoming Workshops\nThere are currently no openings available for this course.
URL:https://www.instructionco.com.au/course/queensland-rail-3-2-safely-access-the-rail-corridor-recertification-6/
LOCATION:BRISBANE CITY\, BRISBANE CITY\, Australia
CATEGORIES:Workshop
END:VEVENT
BEGIN:VEVENT
DTSTART;TZID=Australia/Sydney:20260422T103000
DTEND;TZID=Australia/Sydney:20260422T143000
DTSTAMP:20260421T232849
CREATED:20260323T032411Z
LAST-MODIFIED:20260406T222449Z
UID:15372-1776853800-1776868200@www.instructionco.com.au
SUMMARY:Queensland Rail 3.2 Safely Access the Rail Corridor Recertification
DESCRIPTION:Queensland Rail 3.2 Safely Access the Rail Corridor Recertification \n\nQR3.2_SARC_R\n\n\nThe QR3.2 Safely Access the Rail Corridor Recertification course is aligned with the specific requirements of Queensland Rail’s Network Rules and Procedures MD-12-189. It is designed to equip learners with the skills and knowledge necessary to safely enter and navigate the rail corridor and danger zone\, with the permission of the access provider\, in full compliance with legislative and regulatory standards. \n\nParticipants will learn to adhere to the policies\, procedures\, and protocols of the access provider to ensure situational awareness and rail safety. The course covers operating under local track protection rules\, including interpreting track protection requirements\, executing assigned protection tasks\, and performing work activities in line with safe working practices and workplace procedures. Additionally\, learners will be trained to respond effectively to safety incidents and abnormal situations\, within their scope of personal responsibility. \n\nIntroduction:\nTo ensure you are fully prepared and able to participate in your training session\, please bring the following items with you:\n\n\n	Rail Industry Worker (RIW) Card \n	Current Queensland Rail (QR) SARC Trackside Protection Card \n\n\n\n\nTarget Audience:\nThis course is intended for individuals who have previously completed the initial QR 3.2 Safely Access the Rail Corridor course and need to recertify their qualifications.\n\n\n\nLearning Outcomes:\nSafely access and work in the rail corridor: Demonstrate safe entry and operational procedures for working in the rail corridor in accordance with safety regulations.Identify components of the rail corridor: Recognise and describe key components of the rail corridor\, including tracks\, signals\, and other critical infrastructure.Determine minimum sighting distances: Understand and apply minimum sighting distances required for safe work practices in the rail corridor.Identify safety hazards\, risks\, and controls: Identify common safety hazards and risks within the rail corridor and the control measures in place to mitigate them.Report unsafe situations: Recognise and promptly report unsafe situations or practices observed in the rail environment to the appropriate authorities.\n\n\nLearning Methods:\n\n	Classroom-based learning: Face-to-face instruction covering essential theoretical concepts and safety procedures.\n	Knowledge assessments: Written tests to evaluate participants' understanding of the course material.\n	Practical assessments: Hands-on activities where participants demonstrate their skills in a controlled environment.\n\n\n\n\nProgram Benefits:\nSafety Compliance: Ensures participants understand and comply with essential safety protocols for accessing the rail corridor\, reducing the risk of accidents and injuries.Career Continuity: Maintains up-to-date certification\, ensuring participants can continue to work safely and legally within the rail sector.Recognition: Participants receive a Queensland Rail Certificate of Achievement\, recognised across the industry for its credibility and value.\n\n\nContent:\n\n  \n\nEnquire\nUpcoming Workshops\nThere are currently no openings available for this course.
URL:https://www.instructionco.com.au/course/queensland-rail-3-2-safely-access-the-rail-corridor-recertification-4/
LOCATION:WOOLOOWIN\, WOOLOOWIN\, Australia
CATEGORIES:Workshop
END:VEVENT
BEGIN:VEVENT
DTSTART;TZID=Australia/Sydney:20260422T083000
DTEND;TZID=Australia/Sydney:20260422T143000
DTSTAMP:20260421T232849
CREATED:20260323T032411Z
LAST-MODIFIED:20260406T222448Z
UID:15368-1776846600-1776868200@www.instructionco.com.au
SUMMARY:Queensland Rail 3.2 SARC and 3.15 WET Recertification
DESCRIPTION:Queensland Rail 3.2 SARC and 3.15 WET Recertification \n\nQR 3.2& QR 3.15\n\n\nThis re-certification course is aligned to the specific requirements of Queensland Rail. \n\nIt is designed to recertify the students in QR 3.2 Safely access the rail corridor and QR 3.15 Working in the electrified territory and give learners the skills and knowledge required to safely enter and navigate around the rail corridor and danger zone with the permission of the access provider‚ in accordance with legislative and regulatory requirements including testing learning knowledge of electric traction system‚ as well as how to work safely in the electrified territory\, in order to prevent injuries and avoidable incidents.\n\n \n\nIntroduction:\n\n\n\nTarget Audience:\nYou must be able to speak and understand English. You will need to pass a simple Language\, Literacy and Numeracy test prior to commencement of the training.\n\nYou will need to complete a Railway Category 1\, 2 or 3 Medical prior to commencing work.\n\n\n\nLearning Outcomes:\n\n\n\nLearning Methods:\nThis course is facilitated Face to Face in a classroom environment.\n\nThe assessment methods used for this course include:\n\n	Knowledge based assessment\n\n\nAll participants attending courses must be wearing full QR PPE\, this means helmet with wide brim attachment or wide brim hat\, safety glasses\, long sleeve safety orange shirt\, long pants\, safety boots with steel cap laced up ankle high.\n \n\n\nProgram Benefits:\n\n\n\nContent:\n\n  \n\nEnquire\nUpcoming Workshops\nThere are currently no openings available for this course.
URL:https://www.instructionco.com.au/course/queensland-rail-3-2-sarc-and-3-15-wet-recertification-7/
LOCATION:WOOLOOWIN\, WOOLOOWIN\, Australia
CATEGORIES:Workshop
END:VEVENT
BEGIN:VEVENT
DTSTART;TZID=Australia/Sydney:20260422T083000
DTEND;TZID=Australia/Sydney:20260422T103000
DTSTAMP:20260421T232849
CREATED:20260323T032412Z
LAST-MODIFIED:20260406T232421Z
UID:15375-1776846600-1776853800@www.instructionco.com.au
SUMMARY:Queensland Rail 3.15 Working in the Electrified Territory Recertification
DESCRIPTION:Queensland Rail 3.15 Working in the Electrified Territory Recertification \n\nQR_3.15_WET_R\n\n\nThis course provides essential safety training for workers who will be working in or near Queensland Rail's electrified rail environment. It covers safe practices for operating around the electric traction system and working within electrified territories to prevent injuries and incidents. \n\nThe course is designed for contractors and authorised personnel\, equipping them with a foundational understanding of the traction system\, electrical risks\, and minimum safe working procedures for working in electrified areas within Queensland Rail. It also provides guidelines on effectively reporting incidents and emergencies. \n\nSuccessful completion of this training is mandatory to perform work safely on or near high-voltage electrical apparatus across Queensland Rail’s electrified rail network (unless the work is performed under direct supervision). This course does not grant access to railway corridors or facilities. \n\n \n\nIntroduction:\nTo ensure you are fully prepared and able to participate in your training session\, please bring the following items with you: \n\n\n	\n	Rail Industry Worker (RIW) Card  \n	\n	\n	Current Queensland Rail (QR) WET Electric Traction Card \n	\n\n\n\n\nTarget Audience:\nThis course is intended for individuals who have previously completed the initial QR 3.15 Working in the Electrified Territory course and need to recertify their qualifications.\n\n\n\nLearning Outcomes:\nDescribe how the electric traction system operates: Recognise and explain the key components of the electric traction system and its role in the electrified rail environment.Identify common electrical and safety terminology: Understand and correctly use electrical and safety terms relevant to working in electrified territories.Outline legislative obligations and requirements for working in electrified territory and around overhead line equipment: Recognise and describe the key safety regulations and obligations when working in electrified environments\, particularly in relationIdentify emergency situations and describe the process to be followed: Recognise potential emergency situations and explain the procedures to follow for managing electrical incidents and ensuring safety.\n\n\nLearning Methods:\n\n	Classroom-based learning: Face-to-face instruction covering essential theoretical concepts and safety procedures.\n	Knowledge assessments: Written tests to evaluate participants' understanding of the course material.\n\n\n\n\nProgram Benefits:\nSafety Compliance: Meets the safety and regulatory requirements for working in electrified rail environments\, ensuring full compliance with Queensland Rail’s safety standards.Career Continuity: Maintains up-to-date certification\, ensuring participants can continue to work safely and legally within the rail sector.Recognition: Participants receive a Queensland Rail Certificate of Achievement\, recognised across the industry for its credibility and value.\n\n\nContent:\n\n  \n\nEnquire\nUpcoming Workshops\n\n\nName\nDate\nTime\nLocation\nSpaces\nCost\nIndividual Enrol\nNew Client Enrol\nExisting Client Enrol\n\n\n\n\n\nQueensland Rail 3.15 Working in the Electrified Territory Recertification\n29 April 2026\n08:30 am - 10:30 am\nWOOLOOWIN\n4\n$204.00\nEnrol\nEnrol\nEnrol
URL:https://www.instructionco.com.au/course/queensland-rail-3-15-working-in-the-electrified-territory-recertification-5/
LOCATION:WOOLOOWIN\, WOOLOOWIN\, Australia
CATEGORIES:Workshop
END:VEVENT
BEGIN:VEVENT
DTSTART;TZID=Australia/Sydney:20220531T083000
DTEND;TZID=Australia/Sydney:20220602T160000
DTSTAMP:20260421T232849
CREATED:20220420T070405Z
LAST-MODIFIED:20220428T045440Z
UID:9002-1653985800-1654185600@www.instructionco.com.au
SUMMARY:Certificate II Core Units
DESCRIPTION:Description
URL:https://www.instructionco.com.au/course/certificate-ii-core-units-3/
LOCATION:Beresfield\, 8a/26 Balook Dr\, Beresfield\, 2322\, Australia
CATEGORIES:NSW
ORGANIZER;CN="TIC Rail":MAILTO:office@ticrail.com.au
END:VEVENT
BEGIN:VEVENT
DTSTART;TZID=Australia/Sydney:20220523T083000
DTEND;TZID=Australia/Sydney:20220523T160000
DTSTAMP:20260421T232849
CREATED:20220420T070351Z
LAST-MODIFIED:20220428T073708Z
UID:8998-1653294600-1653321600@www.instructionco.com.au
SUMMARY:TfNSW Safely access the rail corridor
DESCRIPTION:Description
URL:https://www.instructionco.com.au/course/tfnsw-safely-access-the-rail-corridor-7/
LOCATION:Beresfield\, 8a/26 Balook Dr\, Beresfield\, 2322\, Australia
CATEGORIES:NSW
ORGANIZER;CN="TIC Rail":MAILTO:office@ticrail.com.au
END:VEVENT
BEGIN:VEVENT
DTSTART;TZID=Australia/Sydney:20220520T083000
DTEND;TZID=Australia/Sydney:20220520T160000
DTSTAMP:20260421T232849
CREATED:20220420T070350Z
LAST-MODIFIED:20220428T073622Z
UID:8997-1653035400-1653062400@www.instructionco.com.au
SUMMARY:TfNSW Safely access the rail corridor
DESCRIPTION:Description
URL:https://www.instructionco.com.au/course/tfnsw-safely-access-the-rail-corridor-6/
LOCATION:Beresfield\, 8a/26 Balook Dr\, Beresfield\, 2322\, Australia
CATEGORIES:NSW
ORGANIZER;CN="TIC Rail":MAILTO:office@ticrail.com.au
END:VEVENT
BEGIN:VEVENT
DTSTART;TZID=Australia/Sydney:20220517T083000
DTEND;TZID=Australia/Sydney:20220518T160000
DTSTAMP:20260421T232849
CREATED:20220420T070351Z
LAST-MODIFIED:20220428T073758Z
UID:9001-1652776200-1652889600@www.instructionco.com.au
SUMMARY:ARTC Protection Officer Level 1
DESCRIPTION:Description
URL:https://www.instructionco.com.au/course/artc-protection-officer-level-1-2/
LOCATION:Beresfield\, 8a/26 Balook Dr\, Beresfield\, 2322\, Australia
CATEGORIES:NSW
ORGANIZER;CN="TIC Rail":MAILTO:office@ticrail.com.au
END:VEVENT
BEGIN:VEVENT
DTSTART;TZID=Australia/Sydney:20220516T083000
DTEND;TZID=Australia/Sydney:20220516T160000
DTSTAMP:20260421T232849
CREATED:20220420T070348Z
LAST-MODIFIED:20220428T074017Z
UID:8996-1652689800-1652716800@www.instructionco.com.au
SUMMARY:TfNSW Safely access the rail corridor
DESCRIPTION:Description
URL:https://www.instructionco.com.au/course/tfnsw-safely-access-the-rail-corridor-5/
LOCATION:Beresfield\, 8a/26 Balook Dr\, Beresfield\, 2322\, Australia
CATEGORIES:NSW
ORGANIZER;CN="TIC Rail":MAILTO:office@ticrail.com.au
END:VEVENT
BEGIN:VEVENT
DTSTART;TZID=Australia/Sydney:20220513T083000
DTEND;TZID=Australia/Sydney:20220513T160000
DTSTAMP:20260421T232849
CREATED:20220420T070348Z
LAST-MODIFIED:20220428T073024Z
UID:8995-1652430600-1652457600@www.instructionco.com.au
SUMMARY:TfNSW Safely access the rail corridor
DESCRIPTION:Description
URL:https://www.instructionco.com.au/course/tfnsw-safely-access-the-rail-corridor-4/
LOCATION:Beresfield\, 8a/26 Balook Dr\, Beresfield\, 2322\, Australia
CATEGORIES:NSW
ORGANIZER;CN="TIC Rail":MAILTO:office@ticrail.com.au
END:VEVENT
BEGIN:VEVENT
DTSTART;TZID=Australia/Sydney:20220510T083000
DTEND;TZID=Australia/Sydney:20220512T160000
DTSTAMP:20260421T232849
CREATED:20220420T070351Z
LAST-MODIFIED:20220428T074027Z
UID:9000-1652171400-1652371200@www.instructionco.com.au
SUMMARY:ARTC NSW Handsignaller 1 & 2 Theory
DESCRIPTION:Description
URL:https://www.instructionco.com.au/course/artc-nsw-handsignaller-1-2-theory/
LOCATION:Beresfield\, 8a/26 Balook Dr\, Beresfield\, 2322\, Australia
CATEGORIES:NSW
ORGANIZER;CN="TIC Rail":MAILTO:office@ticrail.com.au
END:VEVENT
BEGIN:VEVENT
DTSTART;TZID=Australia/Sydney:20220509T083000
DTEND;TZID=Australia/Sydney:20220509T160000
DTSTAMP:20260421T232849
CREATED:20220420T070348Z
LAST-MODIFIED:20220428T073518Z
UID:8994-1652085000-1652112000@www.instructionco.com.au
SUMMARY:TfNSW Safely access the rail corridor
DESCRIPTION:Description
URL:https://www.instructionco.com.au/course/tfnsw-safely-access-the-rail-corridor-3/
LOCATION:Beresfield\, 8a/26 Balook Dr\, Beresfield\, 2322\, Australia
CATEGORIES:NSW
ORGANIZER;CN="TIC Rail":MAILTO:office@ticrail.com.au
END:VEVENT
BEGIN:VEVENT
DTSTART;TZID=Australia/Sydney:20220506T083000
DTEND;TZID=Australia/Sydney:20220506T160000
DTSTAMP:20260421T232849
CREATED:20220420T070348Z
LAST-MODIFIED:20220502T004415Z
UID:8993-1651825800-1651852800@www.instructionco.com.au
SUMMARY:TfNSW Safely access the rail corridor
DESCRIPTION:This is the mandatory course for anyone performing work in the Transport for NSW rail corridor. This course is recognised by Australian Rail Track Corporation (ARTC) and UGL Regional Links (UGLRL).\n \nThe Safely Access the Rail Corridor (SARC\, SX52) was previoulsy known as ‘Rail Industry Safety Induction’ or RISI Training.\n \nDuring this training\, you will learn the key hazards of operating in the rail environment and give you the skills and knowledge to safely enter and navigate around the rail corridor.\n \n\n\n\n\nEnrol Now
URL:https://www.instructionco.com.au/course/tfnsw-safely-access-the-rail-corridor-2/
LOCATION:Beresfield\, 8a/26 Balook Dr\, Beresfield\, 2322\, Australia
CATEGORIES:NSW
ORGANIZER;CN="TIC Rail":MAILTO:office@ticrail.com.au
END:VEVENT
BEGIN:VEVENT
DTSTART;TZID=Australia/Sydney:20220503T083000
DTEND;TZID=Australia/Sydney:20220505T160000
DTSTAMP:20260421T232849
CREATED:20220420T070351Z
LAST-MODIFIED:20220428T073929Z
UID:8999-1651566600-1651766400@www.instructionco.com.au
SUMMARY:Certificate II Core Units
DESCRIPTION:Description
URL:https://www.instructionco.com.au/course/certificate-ii-core-units-2/
LOCATION:Beresfield\, 8a/26 Balook Dr\, Beresfield\, 2322\, Australia
CATEGORIES:NSW
ORGANIZER;CN="TIC Rail":MAILTO:office@ticrail.com.au
END:VEVENT
BEGIN:VEVENT
DTSTART;TZID=Australia/Sydney:20220502T083000
DTEND;TZID=Australia/Sydney:20220502T160000
DTSTAMP:20260421T232849
CREATED:20220420T070347Z
LAST-MODIFIED:20220428T061246Z
UID:8992-1651480200-1651507200@www.instructionco.com.au
SUMMARY:TfNSW Safely access the rail corridor
DESCRIPTION:Description
URL:https://www.instructionco.com.au/course/tfnsw-safely-access-the-rail-corridor/
LOCATION:Beresfield\, 8a/26 Balook Dr\, Beresfield\, 2322\, Australia
CATEGORIES:NSW
ORGANIZER;CN="TIC Rail":MAILTO:office@ticrail.com.au
END:VEVENT
BEGIN:VEVENT
DTSTART;TZID=Australia/Sydney:20220421T080000
DTEND;TZID=Australia/Sydney:20220421T160000
DTSTAMP:20260421T232849
CREATED:20220419T071410Z
LAST-MODIFIED:20220428T060307Z
UID:8952-1650528000-1650556800@www.instructionco.com.au
SUMMARY:SARC
DESCRIPTION:SARC Course
URL:https://www.instructionco.com.au/course/sarc/
LOCATION:Beresfield\, 8a/26 Balook Dr\, Beresfield\, 2322\, Australia
ORGANIZER;CN="TIC Rail":MAILTO:office@ticrail.com.au
END:VEVENT
END:VCALENDAR